BEGIN:VCALENDAR
VERSION:2.0
PRODID:-//Perfectly Puzzled - ECPv6.15.20//NONSGML v1.0//EN
CALSCALE:GREGORIAN
METHOD:PUBLISH
X-ORIGINAL-URL:https://perfectlypuzzled.org
X-WR-CALDESC:Events for Perfectly Puzzled
REFRESH-INTERVAL;VALUE=DURATION:PT1H
X-Robots-Tag:noindex
X-PUBLISHED-TTL:PT1H
BEGIN:VTIMEZONE
TZID:UTC
BEGIN:STANDARD
TZOFFSETFROM:+0000
TZOFFSETTO:+0000
TZNAME:UTC
DTSTART:20240101T000000
END:STANDARD
END:VTIMEZONE
BEGIN:VTIMEZONE
TZID:Atlantic/Azores
BEGIN:DAYLIGHT
TZOFFSETFROM:-0100
TZOFFSETTO:+0000
TZNAME:+00
DTSTART:20230326T010000
END:DAYLIGHT
BEGIN:STANDARD
TZOFFSETFROM:+0000
TZOFFSETTO:-0100
TZNAME:-01
DTSTART:20231029T010000
END:STANDARD
BEGIN:DAYLIGHT
TZOFFSETFROM:-0100
TZOFFSETTO:+0000
TZNAME:+00
DTSTART:20240331T010000
END:DAYLIGHT
BEGIN:STANDARD
TZOFFSETFROM:+0000
TZOFFSETTO:-0100
TZNAME:-01
DTSTART:20241027T010000
END:STANDARD
BEGIN:DAYLIGHT
TZOFFSETFROM:-0100
TZOFFSETTO:+0000
TZNAME:+00
DTSTART:20250330T010000
END:DAYLIGHT
BEGIN:STANDARD
TZOFFSETFROM:+0000
TZOFFSETTO:-0100
TZNAME:-01
DTSTART:20251026T010000
END:STANDARD
END:VTIMEZONE
BEGIN:VEVENT
DTSTART;TZID=UTC:20250120T120000
DTEND;TZID=UTC:20250120T160000
DTSTAMP:20260423T161006
CREATED:20250107T040843Z
LAST-MODIFIED:20250107T041121Z
UID:978-1737374400-1737388800@perfectlypuzzled.org
SUMMARY:Martin Luther King Parade – San Bernardino\, CA
DESCRIPTION:Martin Luther King Parade – San Bernardino\, CA \n📅 Date: Monday\, January 20th\, 2025\n⏰ Time: 12:00 PM to 4:00 PM\n📍 Location: 624 W 4th Street\, San Bernardino\, CA \n✨ Event Highlights:\nJoin the **Perfectly Puzzled Foundation** as we participate in the annual **Martin Luther King Parade** as a vendor! Celebrate unity\, equality\, and the legacy of Dr. Martin Luther King Jr. with us. \n\n🌟 What to Expect at Our Booth:\nExclusive Products:\nOur signature Perfectly Puzzled  merchandise\, including Sweaters\, Letterman jackets\, accessories\, and more. Every purchase supports autism awareness and one step closer to our sensory gym GOAL!\nFree Giveaways:\nBe sure to stop by our booth to pick up exciting freebies as a token of our gratitude for your support.\nBig Announcement:\nWe are thrilled to announce our plans to create a **mobile sensory gym** in the County of San Bernardino as our first location! This innovative project will provide a safe and accessible space for children with autism spectrum disorder (ASD) and other sensory needs.\n\n💬 Get Involved:\nWant to help make the mobile sensory gym a reality? Stop by our booth to learn how you can contribute and support this life-changing initiative. \n💬 Contact Us:\nFor questions or further details\, please call (909) 660-5786 or email: info@perfectlypuzzled\,org \nWe look forward to seeing you there and celebrating this special day with the community! \n 
URL:https://perfectlypuzzled.org/event/martin-luther-king-parade-san-bernardino-ca/
ATTACH;FMTTYPE=image/jpeg:https://perfectlypuzzled.org/wp-content/uploads/2025/01/MLK-PARADE.jpg
END:VEVENT
BEGIN:VEVENT
DTSTART;TZID=Atlantic/Azores:20240427T110000
DTEND;TZID=Atlantic/Azores:20240427T153000
DTSTAMP:20260423T161006
CREATED:20240427T110056Z
LAST-MODIFIED:20250107T034949Z
UID:852-1714215600-1714231800@perfectlypuzzled.org
SUMMARY:Pieces Of Hope: Gala
DESCRIPTION:Perfectly Puzzled presents: Pieces Of Hope- Gala \nYou’re invited to an unforgettable evening of Hope and inspiration \nJoin us for an amazing evening filled with warmth\, joy\, and purpose at Perfectly Puzzled Foundation’s inaugural gala; Pieces of Hope! As we embark on this incredible journey together\, we invite you to be a part of something truly special. \nAt Pieces of Hope\, every moment is an opportunity to make a difference. Delight your taste buds with delectable food plates available ACCEPTING donations of $20/per plate. Raffle tickets for gift baskets. \nYour generosity will directly contribute to the creation of our first sensory gym!
URL:https://perfectlypuzzled.org/event/pieces-of-hope/
LOCATION:Jesse Owens Community Regional Park\, 9651 S Western Ave\, Los Angeles\, CA\, 90047\, United States
ATTACH;FMTTYPE=image/jpeg:https://perfectlypuzzled.org/wp-content/uploads/2024/04/Perfectly-Puzzled-Gala.jpg
ORGANIZER;CN="Samantha Waters":MAILTO:samanthawaters@perfectlypuzzled.org
END:VEVENT
END:VCALENDAR